BEGIN:VCALENDAR
VERSION:2.0
PRODID:-//Port Royal Sound Foundation - ECPv6.15.20//NONSGML v1.0//EN
CALSCALE:GREGORIAN
METHOD:PUBLISH
X-ORIGINAL-URL:https://portroyalsoundfoundation.org
X-WR-CALDESC:Events for Port Royal Sound Foundation
REFRESH-INTERVAL;VALUE=DURATION:PT1H
X-Robots-Tag:noindex
X-PUBLISHED-TTL:PT1H
BEGIN:VTIMEZONE
TZID:America/New_York
BEGIN:DAYLIGHT
TZOFFSETFROM:-0500
TZOFFSETTO:-0400
TZNAME:EDT
DTSTART:20200308T070000
END:DAYLIGHT
BEGIN:STANDARD
TZOFFSETFROM:-0400
TZOFFSETTO:-0500
TZNAME:EST
DTSTART:20201101T060000
END:STANDARD
BEGIN:DAYLIGHT
TZOFFSETFROM:-0500
TZOFFSETTO:-0400
TZNAME:EDT
DTSTART:20210314T070000
END:DAYLIGHT
BEGIN:STANDARD
TZOFFSETFROM:-0400
TZOFFSETTO:-0500
TZNAME:EST
DTSTART:20211107T060000
END:STANDARD
BEGIN:DAYLIGHT
TZOFFSETFROM:-0500
TZOFFSETTO:-0400
TZNAME:EDT
DTSTART:20220313T070000
END:DAYLIGHT
BEGIN:STANDARD
TZOFFSETFROM:-0400
TZOFFSETTO:-0500
TZNAME:EST
DTSTART:20221106T060000
END:STANDARD
END:VTIMEZONE
BEGIN:VEVENT
DTSTART;TZID=America/New_York:20210602T083000
DTEND;TZID=America/New_York:20210602T110000
DTSTAMP:20260420T083024
CREATED:20210521T182218Z
LAST-MODIFIED:20210521T182218Z
UID:6245-1622622600-1622631600@portroyalsoundfoundation.org
SUMMARY:Field Trip Slot
DESCRIPTION:Field trip booking instructions would go here…
URL:https://portroyalsoundfoundation.org/event/field-trip-slot/
LOCATION:Maritime Center\, 310 Okatie Hwy\, Okatie\, SC\, 29909\, United States
CATEGORIES:Field Trip
END:VEVENT
END:VCALENDAR